BEGIN:VCALENDAR
VERSION:2.0
PRODID:-//Cheyenne Botanic Gardens - ECPv6.15.17.1//NONSGML v1.0//EN
CALSCALE:GREGORIAN
METHOD:PUBLISH
X-ORIGINAL-URL:https://www.botanic.org
X-WR-CALDESC:Events for Cheyenne Botanic Gardens
REFRESH-INTERVAL;VALUE=DURATION:PT1H
X-Robots-Tag:noindex
X-PUBLISHED-TTL:PT1H
BEGIN:VTIMEZONE
TZID:America/Denver
BEGIN:DAYLIGHT
TZOFFSETFROM:-0700
TZOFFSETTO:-0600
TZNAME:MDT
DTSTART:20250309T090000
END:DAYLIGHT
BEGIN:STANDARD
TZOFFSETFROM:-0600
TZOFFSETTO:-0700
TZNAME:MST
DTSTART:20251102T080000
END:STANDARD
BEGIN:DAYLIGHT
TZOFFSETFROM:-0700
TZOFFSETTO:-0600
TZNAME:MDT
DTSTART:20260308T090000
END:DAYLIGHT
BEGIN:STANDARD
TZOFFSETFROM:-0600
TZOFFSETTO:-0700
TZNAME:MST
DTSTART:20261101T080000
END:STANDARD
BEGIN:DAYLIGHT
TZOFFSETFROM:-0700
TZOFFSETTO:-0600
TZNAME:MDT
DTSTART:20270314T090000
END:DAYLIGHT
BEGIN:STANDARD
TZOFFSETFROM:-0600
TZOFFSETTO:-0700
TZNAME:MST
DTSTART:20271107T080000
END:STANDARD
END:VTIMEZONE
BEGIN:VEVENT
DTSTART;TZID=America/Denver:20260307T100000
DTEND;TZID=America/Denver:20260307T113000
DTSTAMP:20260422T060917
CREATED:20260109T192233Z
LAST-MODIFIED:20260203T181204Z
UID:10000966-1772877600-1772883000@www.botanic.org
SUMMARY:Vegetable Garden Series
DESCRIPTION:Join CBG staff and get down to basics on growing your own this year in our Vegetable Garden Class Series. Then\, get dirty with us as you get a hands-on supplement to each class in the 1800’s vegetable garden. You’ll learn how to pick seeds out\, start them indoors\, transplant them into a garden\, and much more over the course of the spring.  \n\n\n\n6 classes\, once a month\, combine a traditional classroom and outdoor hands-on experience to get you growing right.  \n\n\n\nCost: $50 per person \n\n\n\nWhen: February through August (First Saturday of every month expect June & July will be the second Saturday). \n\n\n\nTime: 10 A.M. to 11:30 A.M \n\n\n\nWhere: Volunteer break room and outdoors \n\n\n\nRefund Policy: Programs and classes are non-refundable; all sales are final. \n\n\n\nFebruary – Planning the Garden Feb 7\, 2026 \n\n\n\n    Learn how to site\, schedule\, and plan your vegetable garden to get the most out of it. We’ll discuss succession plantings\, shade/sun exposure\, and more to set you up for success before you get started this growing season. Then take that knowledge and spend some time making plans and sketches\, and having CBG staff help you out. \n\n\n\nMarch – Starting from Seed March 7\, 2026 \n\n\n\n    Most vegetables begin as seeds\, and you’ll learn how to sow and grow them until the weather allows for transplanting. We’ll discuss timing and the basics of seed sowing\, and then get a chance to put it into practice in the greenhouse by starting some vegetables for this season’s 1800s vegetable garden. \n\n\n\nApril – Site Preparation April 4\, 2026 \n\n\n\n    What makes a good garden? Location\, location\, location\, and lots of good hard work. Learn how to prep the soil before planting your garden. Nutrition and water content go further than you might think. See how we get the 1800s garden woke up from its winter sleep and off to work for the spring.  \n\n\n\nMay – Cool Season Crops & Care May 2\, 2026 \n\n\n\n    Cabbages\, Broccoli\, and Lettuce. Oh My! Summer is not the only time to be growing something for the table. We’ll sow and transplant those veggies that don’t mind a little frost and get a jump on the growing season in the 1800s garden.  \n\n\n\nJune – Warm Season Crops & Care June 13\, 2026 \n\n\n\n    Finally\, tomatoes\, the main reason you came. There are also beans\, squash\, peppers\, and other veggies that will not tolerate any cold\, and now’s the time to get them in the ground. Help CBG staff put the finishing touches on the 1800s garden and see what all you need to do to start doing the real work of the veggie garden. Watering\, weeding\, and harvest will continue as summer comes. \n\n\n\nJuly – Harvesting & maintaining weeds July 11\, 2026 \n\n\n\n    July is when the garden is both most productive and most demanding. The heat speeds up growth—but it also stresses plants\, and weeds love it just as much as your crops do. July weeds grow fast and aggressively. The more you harvest\, the more most plants will produce. \n\n\n\nAugust – Harvesting and Preparing for Fall Aug 1\, 2026 \n\n\n\n    August is a busy and rewarding month in the garden. Summer crops are at their peak\, and at the same time\, it’s the perfect moment to start planning and planting for fall.  Continue deep\, consistent watering. Clear out our garden and prepare for fall and winter.
URL:https://www.botanic.org/event/vegetable-garden-series/
LOCATION:Cheyenne Botanic Gardens- Volunteer Kitchen\, 710 S. Lions Park Drive Cheyenne\, WY 82001\, Cheyenne\, Wyoming\, 82001
ATTACH;FMTTYPE=image/png:https://www.botanic.org/wp-content/uploads/2026/01/garden-series-400x400-1.png
ORGANIZER;CN="Cheyenne Botanic Gardens":MAILTO:info@botanic.org
END:VEVENT
END:VCALENDAR