BEGIN:VCALENDAR
VERSION:2.0
PRODID:-//Cheyenne Botanic Gardens - ECPv6.15.17.1//NONSGML v1.0//EN
CALSCALE:GREGORIAN
METHOD:PUBLISH
X-WR-CALNAME:Cheyenne Botanic Gardens
X-ORIGINAL-URL:https://www.botanic.org
X-WR-CALDESC:Events for Cheyenne Botanic Gardens
REFRESH-INTERVAL;VALUE=DURATION:PT1H
X-Robots-Tag:noindex
X-PUBLISHED-TTL:PT1H
BEGIN:VTIMEZONE
TZID:America/Denver
BEGIN:DAYLIGHT
TZOFFSETFROM:-0700
TZOFFSETTO:-0600
TZNAME:MDT
DTSTART:20250309T090000
END:DAYLIGHT
BEGIN:STANDARD
TZOFFSETFROM:-0600
TZOFFSETTO:-0700
TZNAME:MST
DTSTART:20251102T080000
END:STANDARD
BEGIN:DAYLIGHT
TZOFFSETFROM:-0700
TZOFFSETTO:-0600
TZNAME:MDT
DTSTART:20260308T090000
END:DAYLIGHT
BEGIN:STANDARD
TZOFFSETFROM:-0600
TZOFFSETTO:-0700
TZNAME:MST
DTSTART:20261101T080000
END:STANDARD
BEGIN:DAYLIGHT
TZOFFSETFROM:-0700
TZOFFSETTO:-0600
TZNAME:MDT
DTSTART:20270314T090000
END:DAYLIGHT
BEGIN:STANDARD
TZOFFSETFROM:-0600
TZOFFSETTO:-0700
TZNAME:MST
DTSTART:20271107T080000
END:STANDARD
END:VTIMEZONE
BEGIN:VEVENT
DTSTART;TZID=America/Denver:20260331T100000
DTEND;TZID=America/Denver:20260425T170000
DTSTAMP:20260424T064208
CREATED:20260316T224329Z
LAST-MODIFIED:20260415T164952Z
UID:10000992-1774951200-1777136400@www.botanic.org
SUMMARY:Featured Artist: Santosh Rasaily
DESCRIPTION:Join the Cheyenne Botanic Gardens as we welcome featured watercolor artist Santosh Rasaily. Born and raised in Nepal and now a Wyoming resident\, Santosh captures the beauty of the region through vibrant watercolor landscapes and scenes inspired by nature. \n\n\n\nCome experience Wyoming’s natural beauty through Santosh’s artwork on display March 31 through April 25\, Tuesday–Saturday\, 10 a.m. to 5 p.m. Santosh offers a selection of original paintings and prints for sale in the Tilted Tulip Gift Shop.
URL:https://www.botanic.org/event/featured-artist-santosh-rasaily/
LOCATION:Cheyenne Botanic Gardens\, 710 S. Lions Park Drive\, Cheyenne\, Wyoming\, 82001\, United States
ATTACH;FMTTYPE=image/jpeg:https://www.botanic.org/wp-content/uploads/2026/03/Cowboys-Capitol-400x400-1.jpg
END:VEVENT
BEGIN:VEVENT
DTSTART;TZID=America/Denver:20260418T103000
DTEND;TZID=America/Denver:20260418T123000
DTSTAMP:20260424T064208
CREATED:20260208T014905Z
LAST-MODIFIED:20260402T225808Z
UID:10000981-1776508200-1776515400@www.botanic.org
SUMMARY:Illustrating Wyoming's State Flower—the Wyoming Paintbrush Watercolor Workshop SOLD OUT
DESCRIPTION:Join us for a watercolor workshop celebrating Wyoming’s state flower—the vibrant Indian Paintbrush. In this guided class\, participants will learn watercolor techniques for capturing bold color\, soft blends\, and natural textures while illustrating this iconic wildflower. Perfect for beginners and experienced painters alike\, the workshop offers step-by-step instruction\, creative exploration\, and plenty of inspiration. All materials provided—just bring your curiosity and love of Wyoming’s natural beauty. \n\n\n\nThis workshop is $35.00 per person\, and pre-registration is required. All sales are final; no refunds.
URL:https://www.botanic.org/event/illustrating-wyomings-state-flower-the-wyoming-paintbrush-watercolor-workshop/
LOCATION:Cheyenne Botanic Gardens\, 710 S. Lions Park Drive\, Cheyenne\, Wyoming\, 82001\, United States
ATTACH;FMTTYPE=image/jpeg:https://www.botanic.org/wp-content/uploads/2026/02/wyoming-paintbrush-400x400-1.jpg
ORGANIZER;CN="Ryan Goeken":MAILTO:infor@worksofwyoming.com
END:VEVENT
BEGIN:VEVENT
DTSTART;TZID=America/Denver:20260418T130000
DTEND;TZID=America/Denver:20260418T140000
DTSTAMP:20260424T064208
CREATED:20260313T224103Z
LAST-MODIFIED:20260401T220504Z
UID:10000990-1776517200-1776520800@www.botanic.org
SUMMARY:Bookmark Stamping
DESCRIPTION:Join us for a fun and creative bookmark stamping activity at the Paul Smith Children’s Village on April 18 from 1:00 to 2:00 PM. Create your own unique bookmarks using a variety of stamps and designs. All materials will be provided\, and this is a drop-in-only\, free event for ages 6 and up.
URL:https://www.botanic.org/event/bookmark-stamping/
LOCATION:Paul Smith Children’s Village\, 710 S. Lions Park Drive Cheyenne\, WY 82001\, Cheyenne\, Wyoming\, 82001
ATTACH;FMTTYPE=image/jpeg:https://www.botanic.org/wp-content/uploads/2026/03/Bookmarks-400x400-1.jpeg
ORGANIZER;CN="Emma Halaburt":MAILTO:emma@cheyennecity.org
END:VEVENT
END:VCALENDAR